BEGIN:VCALENDAR
VERSION:2.0
PRODID:-//Sabine Monpierre - ECPv6.15.20//NONSGML v1.0//EN
CALSCALE:GREGORIAN
METHOD:PUBLISH
X-ORIGINAL-URL:https://www.sabinemonpierre.com
X-WR-CALDESC:Événements pour Sabine Monpierre
REFRESH-INTERVAL;VALUE=DURATION:PT1H
X-Robots-Tag:noindex
X-PUBLISHED-TTL:PT1H
BEGIN:VTIMEZONE
TZID:UTC
BEGIN:STANDARD
TZOFFSETFROM:+0000
TZOFFSETTO:+0000
TZNAME:UTC
DTSTART:20200101T000000
END:STANDARD
END:VTIMEZONE
BEGIN:VEVENT
DTSTART;TZID=UTC:20230329T173000
DTEND;TZID=UTC:20230329T190000
DTSTAMP:20260423T145512
CREATED:20230325T010029Z
LAST-MODIFIED:20230325T010029Z
UID:2000-1680111000-1680116400@www.sabinemonpierre.com
SUMMARY:Conférence discussion
DESCRIPTION:J’interviendrai à cette table ronde au Musée des Beaux-Arts dans le cadre de la série Rendez-vous du Musée des beaux-arts de Montréal.\nqui aborde l’impact des collections auprès du public dans une perspectives interculturelles.
URL:https://www.sabinemonpierre.com/event/conference-discussion/
CATEGORIES:Table ronde
ATTACH;FMTTYPE=image/jpeg:https://www.sabinemonpierre.com/wp-content/uploads/2023/03/thumbnail_Rendez-vous-4.jpg
END:VEVENT
BEGIN:VEVENT
DTSTART;TZID=UTC:20230325T140000
DTEND;TZID=UTC:20230325T153000
DTSTAMP:20260423T145512
CREATED:20230312T213946Z
LAST-MODIFIED:20230312T213947Z
UID:1995-1679752800-1679758200@www.sabinemonpierre.com
SUMMARY:Panel -discussion: sur la lutte contre le racisme et la discrimination systémiques
DESCRIPTION:J’animerai ce panel de discussion organisé dans le cadre de la Semaine d’actions contre le racisme (SACR) qui vise à souligner la Journée internationale pour l’élimination de la discrimination raciale et de la Décennie internationale des personnes d’ascendance africaine (2015-2024) proclamée par les Nations Unies. \nActivité gratuite   \nC’est un rendez-vous dès 14h00\, en présentiel  au 430 rue St-Hélène #401\, Montréal\, H2Y 2K7 et sur FB Live ( https://fb.me/e/rFrPGTHZ7) \nDescription \nDans le cadre de la Semaine d’actions contre le racisme (SACR) qui vise à souligner la Journée internationale pour l’élimination de la discrimination raciale et de la Décennie internationale des personnes d’ascendance africaine (2015-2024) proclamée par les Nations Unies. \nL’Arbre du Voyageur en collaboration avec le CIDHICA\, organise un panel de discussion avec Gérard BULIN-XAVIER sociologue-anthropologue\, spécialisé sur les questions de l’identité humaine. \nLa situation de crise du sens et de l’existence dans laquelle se trouvent aujourd’hui nos sociétés serait selon lui\, liée à une histoire du monde chargée de discriminations\, à la force des représentations subjectives de l’Autre et de nous-mêmes construites sur la base de résidus archaïques qui dénaturent l’Homme dans son humanité. « De l’essentialité ou pour la déracialisation du monde »\, est l’ouvrage de l’auteur pour aborder une pragmatique du changement qui contribuerait à traiter durablement les questions liées au racisme. \n\nQu’est-ce que l’Essentialité et la déracialisation?\nComment redéfinir le soi face à l’identité?\nComment l’essentialité contribuait-elle à la reconstruction de liens ?\n\nLors de ce panel\, les échanges entre nos invités Michelle Martineau et Frantz Voltaire et l’auteur porteront sur les interrogations et observations que soulignent l’ouvrage et les perspectives dans les relations humaines. \nPanélistes: \n– Frantz Voltaire\, politologue et président du CIDHICA  de Montréal\n– Michelle Martineau\, candidate au doctorat en science politique de l’Université de Montréal.
URL:https://www.sabinemonpierre.com/event/panel-discussion-sur-la-lutte-contre-le-racisme-et-la-discrimination-systemiques/
CATEGORIES:Causerie
ATTACH;FMTTYPE=image/png:https://www.sabinemonpierre.com/wp-content/uploads/2023/03/Panel_ADV_SACR2023.png
ORGANIZER;CN="Arbre du voyageur":MAILTO:info.arbreduvoyageur.ca
END:VEVENT
BEGIN:VEVENT
DTSTART;TZID=UTC:20230321T130000
DTEND;TZID=UTC:20230321T163000
DTSTAMP:20260423T145512
CREATED:20230305T022224Z
LAST-MODIFIED:20230305T022224Z
UID:1992-1679403600-1679416200@www.sabinemonpierre.com
SUMMARY:Conférence sur la lutte contre le racisme et la discrimination systémiques
DESCRIPTION:Je serai MCO à l’occasion de cet événement organisé par  la Commission des droits de la personne et des droits de la jeunesse (CDPDJ)  en collaboration avec la Commission canadienne pour l’UNESCO à une grande conférence\, suivie d’une table ronde sur la thématique suivante :\n« La lutte contre le racisme et de la discrimination systémiques : Les droits de la personne comme rempart aux inégalités et aux injustices sociales ».\nLa grande conférence présentée par Tina Stavrinaki\, vice-présidente du Comité des Nations Unies pour l’élimination de la discrimination raciale\, portera plus particulièrement sur le racisme systémique dans le secteur de la santé.\nSuivra une une table ronde animée par Myrlande Pierre\, vice-présidente de la CDPDJ\, qui réunira les panélistes suivants:\n– Peter Flegel\, directeur exécutif du Secrétariat fédéral de lutte contre le racisme du gouvernement du Canada\n– Bochra Manaï\, commissaire du Bureau de la lutte au racisme et aux discriminations systémiques de la Ville de Montréal\n– Roda Muse\, secrétaire générale de la Commission canadienne pour l’UNESCO\n– Philippe-André Tessier\, président de la CDPDJ\nCet événement s’inscrit dans le cadre de la Semaine d’actions contre le racisme et dans le cadre de la Décennie internationale des personnes d’ascendance africaine (2015-2024)\nEn ligne https://fb.me/e/4adAzJcNy
URL:https://www.sabinemonpierre.com/event/conference-sur-la-lutte-contre-le-racisme-et-la-discrimination-systemiques/
LOCATION:Facebook Live
CATEGORIES:Table ronde
ATTACH;FMTTYPE=image/jpeg:https://www.sabinemonpierre.com/wp-content/uploads/2023/03/334443233_127115886959805_6449077109921773178_n.jpg
END:VEVENT
BEGIN:VEVENT
DTSTART;TZID=UTC:20230309T180000
DTEND;TZID=UTC:20230309T193000
DTSTAMP:20260423T145512
CREATED:20230305T021512Z
LAST-MODIFIED:20230305T021512Z
UID:1987-1678384800-1678390200@www.sabinemonpierre.com
SUMMARY:Panel de discussion: LES FEMMES ET LA PAUVRETÉ
DESCRIPTION:J’interviendrai lors de cette table ronde qui aborde la question des FEMMES ET LA PAUVRETÉ organisé dans le cadre de la journée internationale des droits des femmes par le Comité Femmes de Projet Montréal. \nJe discuterai de ce sujet en compagnie de Despina Sourias \, conseillère associée à la condition féminine au conseil exécutif et\nconseillère de la Ville dans Loyola de Côte-des-Neiges–Notre-Dame-de-Grâce.
URL:https://www.sabinemonpierre.com/event/panel-de-discussion-les-femmes-et-la-pauvrete/
LOCATION:1055 René Lévesque Est\, suite 1100\, Rendez-vous au 1055 René Lévesque Est\, suite 1100\, Montréal\, Québec\, H2L 4S5\, Canada
CATEGORIES:Table ronde
ATTACH;FMTTYPE=image/jpeg:https://www.sabinemonpierre.com/wp-content/uploads/2023/03/330503812_1153380958659269_1875772850255814536_n.jpg
END:VEVENT
BEGIN:VEVENT
DTSTART;TZID=UTC:20220507T100000
DTEND;TZID=UTC:20220507T180000
DTSTAMP:20260423T145512
CREATED:20220311T211026Z
LAST-MODIFIED:20220311T211140Z
UID:1963-1651917600-1651946400@www.sabinemonpierre.com
SUMMARY:SOMMET ET PRIX DES FEMMES DE LA DIVERSITÉ 2022
DESCRIPTION:Je participerai à la 5e édition du Sommet et Prix des Femmes de la Diversité de 2022 à titre de nominée dans la catégorie INFLUENCEUSE. \nCet événement est organisée par Afropolitan. La remise des prix se fera à Toronto . \nMa présentation est disponible ici: https://afropolitan.ca/2022-wod-nominees#a432df3f-1fc7-41a4-bbee-0e85c3fa39cb
URL:https://www.sabinemonpierre.com/event/sommet-et-prix-des-femmes-de-la-diversite-2022/
CATEGORIES:Reconnaissance/ Prix
ATTACH;FMTTYPE=image/jpeg:https://www.sabinemonpierre.com/wp-content/uploads/2022/03/275674535_10224637442557576_5830395466339888299_n.jpg
END:VEVENT
BEGIN:VEVENT
DTSTART;TZID=UTC:20220327T110000
DTEND;TZID=UTC:20220327T123000
DTSTAMP:20260423T145512
CREATED:20220317T175050Z
LAST-MODIFIED:20220317T175050Z
UID:1969-1648378800-1648384200@www.sabinemonpierre.com
SUMMARY:Table-ronde- Montée du RACISME en France par rapport au Québec: Analyses et perspectives
DESCRIPTION:Le racisme en France s’exprime à un niveau préoccupant et fragilise la cohésion nationale. Aux anciennes formes de racisme qui visent différentes populations\, s’ajoute la digitalisation de l’expression raciste.\nLa montée des mouvements xénophobes et racistes en Occident n’a pas épargné le Québec. Racisme systémique\, appropriation culturelle\, privilèges blancs\, cette montée du racisme et de l’intolérance menace concrètement nos droits et libertés.\nOrganisée par  l’Arbre du voyageur cette table-ronde virtuelle s’inscrit dans la programmation de la 23e édition de la Semaine d’Actions contre le racisme et pour l’égalité des chances (SACR)\, je participerai en tant que panéliste.
URL:https://www.sabinemonpierre.com/event/table-ronde-montee-du-racisme-en-france-par-rapport-au-quebec-analyses-et-perspectives/
CATEGORIES:Table ronde
ATTACH;FMTTYPE=image/png:https://www.sabinemonpierre.com/wp-content/uploads/2022/03/Cover_-Instagram-_SACR_2022Post.png
END:VEVENT
BEGIN:VEVENT
DTSTART;TZID=UTC:20220326T080000
DTEND;TZID=UTC:20220410T230000
DTSTAMP:20260423T145512
CREATED:20220317T174351Z
LAST-MODIFIED:20220317T174351Z
UID:1966-1648281600-1649631600@www.sabinemonpierre.com
SUMMARY:Festival Vues d'Afrique
DESCRIPTION:C’est officiel\, Le 38e Festival international de cinéma Vues d’Afrique est lancé ! Du 26 au 31 Mars en ligne sur la plateforme de @TV5ca et du 1er au 10 avril en salle à la cinémathèque québécoise. Dans ma qualité de membre du jury\, j’évaluerai les documentaires pour la catégorie DOCUMENTAIRE SÉLECTION INTERNATIONALE. Le Prix Long Métrage et le Prix Court Moyen Métrage seront octroyés par le Ministère des relations internationales et de la francophonie du Québec aux réalisateurs récompensés.\nConsultez le catalogue en ligne sur www.vuesdafrique.org pour plus d’infos sur la programmation et les activités.
URL:https://www.sabinemonpierre.com/event/festival-vues-dafrique/
CATEGORIES:Festival
ATTACH;FMTTYPE=image/jpeg:https://www.sabinemonpierre.com/wp-content/uploads/2022/03/275852664_261914949469813_5933348763586520489_n.jpg
END:VEVENT
BEGIN:VEVENT
DTSTART;TZID=UTC:20220227T120000
DTEND;TZID=UTC:20220227T130000
DTSTAMP:20260423T145512
CREATED:20220212T035244Z
LAST-MODIFIED:20220212T035825Z
UID:1934-1645963200-1645966800@www.sabinemonpierre.com
SUMMARY:Invitée du Camp de formation de l'École d'influence
DESCRIPTION:J’interviendrai aux côtés de Paul Evra et de Marjorie Villefranche à titre de panéliste à la table-ronde en ligne organisée par l’Institut du Nouveau Monde qui réunit des personnalités engagées dans leur quartier.\nIl s’agira de raconter nos parcours et notre engagement en tant que personnalités locales d’engagement des arrondissements alentours.\nCette table-ronde s’inscrit dans le cadre des activités de Institut du Nouveau Monde – INM. Je m’adresserai à la 8e cohorte des jeunes âgés de 18 à 30 ans\, s’identifiant comme des personnes racisées de s’engager dans la communauté et de devenir des leaders.\nhttps://inm.qc.ca/sabine-monpierre/\n\n\nDimanche 27 février prochain de 12h à 13h.
URL:https://www.sabinemonpierre.com/event/invitee-du-camp-de-formation-de-lecole-dinfluence/
CATEGORIES:Table ronde
ATTACH;FMTTYPE=image/jpeg:https://www.sabinemonpierre.com/wp-content/uploads/2022/02/273603396_10224498850452860_8642117717685644430_n.jpg
END:VEVENT
BEGIN:VEVENT
DTSTART;TZID=UTC:20220212T173000
DTEND;TZID=UTC:20220212T190000
DTSTAMP:20260423T145512
CREATED:20220212T040504Z
LAST-MODIFIED:20220212T040504Z
UID:1937-1644687000-1644692400@www.sabinemonpierre.com
SUMMARY:
DESCRIPTION:Deuxième rendez-vous : Le Show des LUMINEUSES EN CRÉATION que j’anime Lumineuse invitée: Ursula Mulciba-Bellon\, avec la participation des chroniqueuses: Akosua\, Chaka et Shérane.\n\n\n\nURSULA MULCIBA-BELLON est praticienne en bien-être\,\nconseillère phyto-aromathérapie. Elle fonde Regards pluriels\, un concept bien-être et nature : une approche conviviale\, des soins bien-être personnalisés\, un lieu idéal pour se détendre\, se ressourcer et mettre vos sens en éveil. Pour Ursula\, ce n’est pas l’apparence qui fait la beauté d’une femme\, c’est son rayonnement.\n\n\n\nÉmission patronnée par Femmes & traditions.\n\n\n\nVisionnez Show des LUMINEUSES EN CRÉATION en replay sur FB Femmes & traditions.\n\n\nDisponible le lundi sur la chaîne YouTube de Femmes et traditions
URL:https://www.sabinemonpierre.com/event/1937/
ATTACH;FMTTYPE=image/png:https://www.sabinemonpierre.com/wp-content/uploads/2022/02/Show-2_lumineuses-en-création.png
ORGANIZER;CN="Femmes & traditions":MAILTO:femmes.traditions@gmail.com
END:VEVENT
BEGIN:VEVENT
DTSTART;TZID=UTC:20220129T173000
DTEND;TZID=UTC:20220129T190000
DTSTAMP:20260423T145512
CREATED:20220127T145455Z
LAST-MODIFIED:20220127T145455Z
UID:1928-1643477400-1643482800@www.sabinemonpierre.com
SUMMARY:Le Show des Lumineuses en Création du 29 janvier 2022
DESCRIPTION:Le Show des LUMINEUSES EN CRÉATION animé par Manmzèl Yémaya reçoit ce samedi 29 janvier 2022: Katiania Césaire et Lillie Lollia les lumineuses invitées avec la participation des chroniqueuses: Akosua\, Chaka et Shérane.\n\n\nKATIANIA CÉSAIRE est massothérapeute professionnelle spécialisée dans le domaine thérapeutique et fondatrice de la ligne de produits Vertueuse Fragrance. Sa mission est de prendre soin de la femme en écoutant les besoins spécifiques de son corps.\n\n\nLILLIE LOLLIA est ethnobotaniste et herboriste\, auteure d’ouvrages sur les plantes des Amériques. Elle lance la bathérapie\, l’art de vivre de prendre un bain holistique. Pour Lillie\, il est important de dévoiler sa personnalité\, son sens de l’humour\, et de simplement rester soi-même.\n\n\nÉmission patronnée par Femmes & traditions.\n\n\n_ Visionnez le Show des LUMINEUSES EN CRÉATION en replay sur FB de Femmes & traditions. Disponible le lundi sur notre chaîne YouTube
URL:https://www.sabinemonpierre.com/event/le-show-des-lumineuses-en-creation-du-29-janvier-2022/
LOCATION:Facebook Live
CATEGORIES:Émission
ATTACH;FMTTYPE=image/png:https://www.sabinemonpierre.com/wp-content/uploads/2022/01/Inst.png
ORGANIZER;CN="Femmes & traditions":MAILTO:femmes.traditions@gmail.com
END:VEVENT
BEGIN:VEVENT
DTSTART;TZID=UTC:20211211T140000
DTEND;TZID=UTC:20211211T143000
DTSTAMP:20260423T145512
CREATED:20211122T032727Z
LAST-MODIFIED:20211122T032755Z
UID:1913-1639231200-1639233000@www.sabinemonpierre.com
SUMMARY:Noël Rencontre avec Edgard Férus
DESCRIPTION:Dans le cadre des temps des fêtes\, je reçois au Noël Rencontre  le guadeloupéen Edgard Férus conteur\, auteur\, poète\, animateur d’Education Populaire\, éducateur spécialisé\, médiateur artistique en relation d’aide.\nPendant 30 minutes\, il nous parlera de son association : KONTAKAZ et de la place des contes à la période de Noël.\nÀ 14h30 (Montréal) / 15h30 (Antilles) suivra la présentation du conte  » Nwèl chanjé Bari » en facebook live pour petits et grands.\nSoyez des nôtres!\nLe lien est ICI
URL:https://www.sabinemonpierre.com/event/1913/
CATEGORIES:Causerie
ATTACH;FMTTYPE=image/png:https://www.sabinemonpierre.com/wp-content/uploads/2021/11/Cover-conte.png
ORGANIZER;CN="Arbre du voyageur":MAILTO:info.arbreduvoyageur.ca
END:VEVENT
BEGIN:VEVENT
DTSTART;TZID=UTC:20211204T143000
DTEND;TZID=UTC:20211204T153000
DTSTAMP:20260423T145512
CREATED:20211122T033514Z
LAST-MODIFIED:20211122T033514Z
UID:1918-1638628200-1638631800@www.sabinemonpierre.com
SUMMARY:Causerie: Célébrer mon Noël antillais à l'étranger
DESCRIPTION:À l’approche des temps des fêtes cette causerie virtuelle réunira des antillais installées dans différents coins du globe que j’accueillerai.\nComment vivent-ils cette période des fêtes?\nCélébrer à l’étranger est-ce un défi pour s’intégrer pour s’adapter à la société d’accueil?\n\nCette activité se tiendra à 14h30 (heure Montréal)/ 15h30 (Antilles).
URL:https://www.sabinemonpierre.com/event/causerie-celebrer-mon-noel-antillais-a-letranger/
CATEGORIES:Causerie
ATTACH;FMTTYPE=image/png:https://www.sabinemonpierre.com/wp-content/uploads/2021/11/Causerie_4-nov_2021.png
ORGANIZER;CN="Arbre du voyageur":MAILTO:info.arbreduvoyageur.ca
END:VEVENT
BEGIN:VEVENT
DTSTART;TZID=UTC:20211125T120000
DTEND;TZID=UTC:20211125T123000
DTSTAMP:20260423T145512
CREATED:20211122T032154Z
LAST-MODIFIED:20211122T032843Z
UID:1908-1637841600-1637843400@www.sabinemonpierre.com
SUMMARY:Midi-Rencontre avec Michelle E. J. Martineau
DESCRIPTION:Je reçois Michelle E. J. Martineau d’origine guadeloupéenne. Elle est Candidate au doctorat en science politique au Département de science politique de l’Université de Montréal.\nLors de cet échange\, elle parlera de son intégration au Québec\, de ses implication et partagera ses conseils dans ce processus. \nLe lien est disponible ICI
URL:https://www.sabinemonpierre.com/event/midi-rencontre-de-larbre-du-voyageur-2/
CATEGORIES:Causerie
ATTACH;FMTTYPE=image/png:https://www.sabinemonpierre.com/wp-content/uploads/2021/11/Midi-Rencontre-IG.png
ORGANIZER;CN="Arbre du voyageur":MAILTO:info.arbreduvoyageur.ca
END:VEVENT
BEGIN:VEVENT
DTSTART;TZID=UTC:20211009T143000
DTEND;TZID=UTC:20211009T153000
DTSTAMP:20260423T145512
CREATED:20210929T020012Z
LAST-MODIFIED:20211122T032915Z
UID:1892-1633789800-1633793400@www.sabinemonpierre.com
SUMMARY:Transmission des traditions et COVID: Quels impacts pour nos communautés créoles 1 an après?
DESCRIPTION:Depuis un an notre vie est marquée d’incertitudes et de défis. Rester à l’écoute de nos histoires\, de notre culture\, réfléchir est vital pour soutenir et accompagner les actrices qui s’investissent dans nos communautés créoles sans relâche pour maintenir nos traditions dans la transmission.\nOrganisée dans le cadre du Mois du créole de Montréal et le Mois Kréyol de France\, cette table-ronde réunit des femmes de tête qui ont bravé cette pandémie en innovant pour garder vivante cette transmission.\nNous avons la responsabilité de rappeler que les arts et la culture créoles sont notre patrimoine. Ils nous rappellent qui nous sommes\, transforment positivement notre vie et améliorent significativement notre identité créole.\n\nModératrice : Sabine Monpierre\n\nNos panélistes:\n– Jenny Cadot\, poésie et photographie (Haïti)\n– Akosua Fadili Afrika\, thérapie médicinale(Guadeloupe)\n– Shérane Figaro\, chorégraphe (Haïti)\n– Laure Tarer\, écrivaine (Guadeloupe)
URL:https://www.sabinemonpierre.com/event/1892/
LOCATION:Facebook Live
CATEGORIES:Table ronde
ATTACH;FMTTYPE=image/png:https://www.sabinemonpierre.com/wp-content/uploads/2021/09/Table-ronde-MCM.png
ORGANIZER;CN="Femmes & traditions":MAILTO:femmes.traditions@gmail.com
END:VEVENT
BEGIN:VEVENT
DTSTART;TZID=UTC:20210929T110000
DTEND;TZID=UTC:20210929T120000
DTSTAMP:20260423T145512
CREATED:20210929T032156Z
LAST-MODIFIED:20210929T032156Z
UID:1904-1632913200-1632916800@www.sabinemonpierre.com
SUMMARY:Moi aussi je veux voter mais comment?
DESCRIPTION:Actuellement\, nous avons plusieurs raisons de nous plaindre de la politique et de ne pas aller voter. Mais nous avons aussi envie de voter et nous ne comprenons pas toujours comment ça fonctionne.\n\n Voter est le moyen le plus simple de faire entendre notre voix.\nLe pouvoir municipal est l’instance de pouvoir la plus près des citoyens(nes).\n Par notre vote\, nous désignons les personnes qui seront chargées de nous représenter en fonction de nos valeurs\, de notre vision du monde qui nous entoure. Ne pas voter\, c’est laisser les autres décider pour nous.\n\nAnimatrice: Sabine MONPIERRE\nCandidate\, conseillère de ville- District DARLINGTON\nCo-animatrice: France STOHNER\nCandidate\, conseillère de ville – District SNOWDON
URL:https://www.sabinemonpierre.com/event/moi-aussi-je-veux-voter-mais-comment/
CATEGORIES:Causerie
ATTACH;FMTTYPE=image/png:https://www.sabinemonpierre.com/wp-content/uploads/2021/09/Moi-aussi-je-veux-voter-mais-comment.png
END:VEVENT
BEGIN:VEVENT
DTSTART;TZID=UTC:20210921T120000
DTEND;TZID=UTC:20210921T123000
DTSTAMP:20260423T145512
CREATED:20210929T021154Z
LAST-MODIFIED:20210929T021205Z
UID:1899-1632225600-1632227400@www.sabinemonpierre.com
SUMMARY:Midi-Rencontre de l'Arbre du Voyageur
DESCRIPTION:Pour la rentrée de Midi-rencontre\, je reçois Elysée Daniel ma première invitée.\nD’origine martiniquaise\, elle découvre sa passion pour le chant à 7 ans. Elle sait qu’elle sera chanteuse. En 1999 elle s’engage dans la musique et obtient une médaille d’or de conservatoire. Sa passion pour la voix la conduit à créer l’ensemble vocal Ritual Song (Gospel). En 2009 elle obtient son Diplôme d’État de professeure de chant. Elle participe à des opéras et créations contemporaines et développe son propre spectacle lyrique –gospel : Origines et Frontières. Elle est membre du chœur professionnel de l’OSM et ne cesse de se perfectionner. Elle se produit comme choriste et soliste en Europe et en Amérique du Nord.\nElle  parlera de son intégration au Québec et nous partagera ses conseils.
URL:https://www.sabinemonpierre.com/event/midi-rencontre-de-larbre-du-voyageur/
LOCATION:Facebook Live
CATEGORIES:Causerie
ATTACH;FMTTYPE=image/png:https://www.sabinemonpierre.com/wp-content/uploads/2021/09/Midi_rencontre_-21-septembre_2021.png
ORGANIZER;CN="Arbre du voyageur":MAILTO:info.arbreduvoyageur.ca
END:VEVENT
END:VCALENDAR